BEGIN:VCALENDAR
VERSION:2.0
PRODID:-//rfr/addtomycal//NONSGML v1.0//EN
BEGIN:VEVENT
UID:rouen.fr
DTSTAMP:20260420T185333Z
DTSTART:20211227T093000Z
DTEND:20211227T110000Z
SUMMARY:Petite Fabrique - Cirque de poche
DESCRIPTION:atelier - Petite Fabrique
 - enfant - 4 €
 - Rens. et réservations au 02 76 30 39 18, par mail à publics4@musees-rouen-normandie.fr et sur www.musees-rouen-normandie.fr
 - Public : 6
LOCATION:12 ans
autour du chapiteau de cirque et du clown
nombre de places limité

END:VEVENT
END:VCALENDAR
