BEGIN:VCALENDAR
VERSION:2.0
PRODID:-//rfr/addtomycal//NONSGML v1.0//EN
BEGIN:VEVENT
UID:rouen.fr
DTSTAMP:20260422T004710Z
DTSTART:20220108T130000Z
DTEND:20220108T150000Z
SUMMARY:Troc cadeaux
DESCRIPTION:salon - Échange de cadeaux
 - tout public - Accès libre
 - Rens. par mail sur rouenalasso@rouen.fr
 - Apportez au moins un objet (vêtement, jeu, livre, disque, bijou ou tout autre objet en état neuf) et repartez gratuitement avec un ou plusieurs autres

LOCATION:Maisons de quartier Mustel, Saint-Hilaire, Saint-Nicaise, Poterat et Saint-Sever, Rouen
END:VEVENT
END:VCALENDAR
