BEGIN:VCALENDAR
VERSION:2.0
PRODID:-//rfr/addtomycal//NONSGML v1.0//EN
BEGIN:VEVENT
UID:rouen.fr
DTSTAMP:20260420T072712Z
DTSTART:20220112T143000Z
DTEND:20220112T153000Z
SUMMARY:Gymnastique adaptée pour senior
DESCRIPTION:sport - Gymnastique
 - senior - 2 €
 - Inscription indispensable au 02 35 73 07 38
 - Proposé par l'associaiton Siel-Bleu
Exercices d'équilibre pour limiter le risque de chute et rependre confiance en soi

LOCATION:Résidence Trianon, rue de Trianon
, Rouen
END:VEVENT
END:VCALENDAR
