BEGIN:VCALENDAR
VERSION:2.0
PRODID:-//rfr/addtomycal//NONSGML v1.0//EN
BEGIN:VEVENT
UID:rouen.fr
DTSTAMP:20260425T200117Z
DTSTART:20220122T170000Z
DTEND:20220122T170000Z
SUMMARY:Chien·ne
DESCRIPTION:spectacle - Théâtre
 - tout public - 15 € (TR 10 €)
 - Rens. : 02 35 70 22 82, par mail sur billetterie@cdn-normandierouen.fr et sur www.cdn-normandierouen.fr
 - De et avec Nadège Cathelineau et Julien Frégé, Groupe Chiendent
Tout public dès 15 ans
Durée : 1h30
Rencontre avec l"équipe artistique à l'issue de la représentation du 19 janvier

LOCATION:Théâtre des Deux rives, rue Louis-Ricard
, Rouen
END:VEVENT
END:VCALENDAR
