BEGIN:VCALENDAR
VERSION:2.0
PRODID:-//rfr/addtomycal//NONSGML v1.0//EN
BEGIN:VEVENT
UID:rouen.fr
DTSTAMP:20260426T030417Z
DTSTART:20220129T190000Z
DTEND:20220129T190000Z
SUMMARY:Rouen - Grenoble
DESCRIPTION:sport - Hockey sur glace
 - tout public - Payant
 - Rens. : http:
LOCATION:
END:VEVENT
END:VCALENDAR
