BEGIN:VCALENDAR
VERSION:2.0
PRODID:-//rfr/addtomycal//NONSGML v1.0//EN
BEGIN:VEVENT
UID:rouen.fr
DTSTAMP:20260423T074011Z
DTSTART:20220215T133000Z
DTEND:20220215T150000Z
SUMMARY:Visite commentée - Les apartés "Wild West"
DESCRIPTION:visite - Visite commentée
 - tout public - Gratuit, en continu et sans réservation
 - Rens. : www.musees-rouen-normandie.fr
 - 
LOCATION:La Fabrique des savoirs, Elbeuf
END:VEVENT
END:VCALENDAR
