BEGIN:VCALENDAR
VERSION:2.0
PRODID:-//rfr/addtomycal//NONSGML v1.0//EN
BEGIN:VEVENT
UID:rouen.fr
DTSTAMP:20260420T073945Z
DTSTART:20220222T190000Z
DTEND:20220222T190000Z
SUMMARY:Le chant du père
DESCRIPTION:spectacle - Théâtre musical
 - tout public - 15 € (TR 10 €)
 - Rens. : 02 35 70 22 82, par mail sur billetterie@cdn-normandierouen.fr et sur www.cdn-normandierouen.fr
 - Par Hatice Özer
Tout public dès 12 ans
Durée : 1h15
Rencontre avec l'équipe artistique à l'issue de la représentation du 23 février
Représentation du 26 février adaptée en LSF

LOCATION:Théâtre des Deux rives, rue Louis-Ricard, Rouen
END:VEVENT
END:VCALENDAR
