BEGIN:VCALENDAR
VERSION:2.0
PRODID:-//rfr/addtomycal//NONSGML v1.0//EN
BEGIN:VEVENT
UID:rouen.fr
DTSTAMP:20260419T171238Z
DTSTART:20220310T230000Z
DTEND:20220310T230000Z
SUMMARY:Girl Power
DESCRIPTION:atelier - Rouen donne des elles
 - tout public - Gratuit
 - Prog. sur www.docks76.com
Rens. : https:
LOCATION:
END:VEVENT
END:VCALENDAR
