BEGIN:VCALENDAR
VERSION:2.0
PRODID:-//rfr/addtomycal//NONSGML v1.0//EN
BEGIN:VEVENT
UID:rouen.fr
DTSTAMP:20260420T054311Z
DTSTART:20220320T150000Z
DTEND:20220320T150000Z
SUMMARY:Le Lac des cygnes
DESCRIPTION:spectacle - Danse
 - tout public - De 10 € à 46 €
 - Réservations par téléphone au 02 35 98 74 78 ou par mail sur billetterie@operaderouen.fr
Rens. : www.operaderouen.fr
 - Chorégraphie : Angelin Preljocaj
Par le Ballet Preljocaj et l'orchestre de l'Opéra de Rouen-Normandie
Direction musicale : Alice Farnham
Durée : 1h50
Introdiction à l'œuvre 1h avant chaque représentation

LOCATION:Théâtre des Arts, place des Arts, Rouen
END:VEVENT
END:VCALENDAR
