BEGIN:VCALENDAR
VERSION:2.0
PRODID:-//rfr/addtomycal//NONSGML v1.0//EN
BEGIN:VEVENT
UID:rouen.fr
DTSTAMP:20260419T204650Z
DTSTART:20220427T160000Z
DTEND:20220427T160000Z
SUMMARY:Tu pourras toujours compter sur moi
DESCRIPTION:spectacle - Curieux printemps
 - tout public - Gratuit, sur réservation
 - Réserv. : 02 35 70 22 82 et par mail à munae-reservation@reseau-canope.fr
Rens. : https:
LOCATION:
END:VEVENT
END:VCALENDAR
