BEGIN:VCALENDAR
VERSION:2.0
PRODID:-//rfr/addtomycal//NONSGML v1.0//EN
BEGIN:VEVENT
UID:rouen.fr
DTSTAMP:20260425T160634Z
DTSTART:20220508T080000Z
DTEND:20220508T110000Z
SUMMARY:Stage self-défense
DESCRIPTION:sport - Stage
 - tout public - 8 €
 -  - Proposé par l'association MMA Agôn Académie
Stage spécialement réservé aux femmes
Tout niveau

LOCATION:Gymnase Saint-Exupéry, rue des Petites Eaux de Robec, Rouen
END:VEVENT
END:VCALENDAR
