BEGIN:VCALENDAR
VERSION:2.0
PRODID:-//rfr/addtomycal//NONSGML v1.0//EN
BEGIN:VEVENT
UID:rouen.fr
DTSTAMP:20260419T152322Z
DTSTART:20220514T180000Z
DTEND:20220514T193000Z
SUMMARY:Initiation aux arts du cirque
DESCRIPTION:atelier - Nuit des musées
 - tout public - Gratuit
 - Rens. : www.nuitdesmusees.fr
 - À l'occasion de la Nuit européenne des musées
Avec la Cie Lotromonde
Dans la limite des places disponibles

LOCATION:Musée de la Corderie Vallois
, Notre-Dame-de-Bondeville
END:VEVENT
END:VCALENDAR
