BEGIN:VCALENDAR
VERSION:2.0
PRODID:-//rfr/addtomycal//NONSGML v1.0//EN
BEGIN:VEVENT
UID:rouen.fr
DTSTAMP:20260419T171327Z
DTSTART:20220521T120000Z
DTEND:20220521T140000Z
SUMMARY:Atelier poterie
DESCRIPTION:atelier - Atelier
 - enfant - 25 €
 - Rens. et réserv. : 02 76 78 18 83
Contact@galeriedesartsdufeu.fr
www.galeriedesartsdufeu.fr
 - Public : 7
LOCATION:15 ans
Encadré par Benjamin Gehan
Thème : les animaux

END:VEVENT
END:VCALENDAR
