BEGIN:VCALENDAR
VERSION:2.0
PRODID:-//rfr/addtomycal//NONSGML v1.0//EN
BEGIN:VEVENT
UID:rouen.fr
DTSTAMP:20260423T070043Z
DTSTART:20220522T093000Z
DTEND:20220522T093000Z
SUMMARY:Rémi le roi des comptines - Comptines en voyage
DESCRIPTION:spectacle - Spectacle
 - enfant - 12 € (TR 10 €)
 - Rens. : https:theatrealouest.fr
 - 
LOCATION:Théâtre à l'Ouest, rue de Buffon
, Rouen
END:VEVENT
END:VCALENDAR
