BEGIN:VCALENDAR
VERSION:2.0
PRODID:-//rfr/addtomycal//NONSGML v1.0//EN
BEGIN:VEVENT
UID:rouen.fr
DTSTAMP:20260421T074338Z
DTSTART:20220527T220000Z
DTEND:20220527T220000Z
SUMMARY:Médiéval & fantastiques
DESCRIPTION:fête populaire - Curieux printemps
 - tout public - Gratuit
 - Rens. : https:
LOCATION:
END:VEVENT
END:VCALENDAR
