BEGIN:VCALENDAR
VERSION:2.0
PRODID:-//rfr/addtomycal//NONSGML v1.0//EN
BEGIN:VEVENT
UID:rouen.fr
DTSTAMP:20260422T124030Z
DTSTART:20220528T150000Z
DTEND:20220528T150000Z
SUMMARY:Fête des voisins des lieux culturels et de proximité - Répétition publique et temps convivial
DESCRIPTION:fête populaire - Fête des voisins
 - tout public - Accès libre
 -  - Proposé par l'Auberge de jeunesse

LOCATION:Foyer des Marins, 16 rue Duguay-Trouin, Rouen
END:VEVENT
END:VCALENDAR
