BEGIN:VCALENDAR
VERSION:2.0
PRODID:-//rfr/addtomycal//NONSGML v1.0//EN
BEGIN:VEVENT
UID:rouen.fr
DTSTAMP:20260420T061715Z
DTSTART:20220605T070000Z
DTEND:20220605T150000Z
SUMMARY:Balade à vélo poétique - Rouen
DESCRIPTION:La Bouille
LOCATION:visite - Fête du vélo
 - tout public - Gratuit, sur inscription
 - Rens. et inscriptions sur https:
END:VEVENT
END:VCALENDAR
