BEGIN:VCALENDAR
VERSION:2.0
PRODID:-//rfr/addtomycal//NONSGML v1.0//EN
BEGIN:VEVENT
UID:rouen.fr
DTSTAMP:20260421T135838Z
DTSTART:20220605T113000Z
DTEND:20220605T160000Z
SUMMARY:Visite libre - Musée industriel de la Corderie Vallois
DESCRIPTION:visite - Les Beaux jours
 - tout public - Gratuit, sur réservation
 - Rens. : 02 35 74 35 35 ou à publics3@musees-rouen-normandie.fr
 - À l'occasion du lancement de la saison touristique à Rouen

LOCATION:Musée de la Corderie Vallois
, Notre-Dame-de-Bondeville
END:VEVENT
END:VCALENDAR
