BEGIN:VCALENDAR
VERSION:2.0
PRODID:-//rfr/addtomycal//NONSGML v1.0//EN
BEGIN:VEVENT
UID:rouen.fr
DTSTAMP:20260419T225605Z
DTSTART:20220621T160000Z
DTEND:20220621T171500Z
SUMMARY:John Dark
DESCRIPTION:musique - Fête de la musique
 - tout public - Gratuit
 -  - 
LOCATION:Esplanade de l'Espace du Palais
, Rouen
END:VEVENT
END:VCALENDAR
