BEGIN:VCALENDAR
VERSION:2.0
PRODID:-//rfr/addtomycal//NONSGML v1.0//EN
BEGIN:VEVENT
UID:rouen.fr
DTSTAMP:20260419T171317Z
DTSTART:20220621T170000Z
DTEND:20220621T200000Z
SUMMARY:Just Alone Trio
DESCRIPTION:musique - Fête de la musique
 - tout public - Gratuit
 -  - 
LOCATION:Restaurant Les Consessions, 150 rue Eau de Robec
, Rouen
END:VEVENT
END:VCALENDAR
