BEGIN:VCALENDAR
VERSION:2.0
PRODID:-//rfr/addtomycal//NONSGML v1.0//EN
BEGIN:VEVENT
UID:rouen.fr
DTSTAMP:20260421T073801Z
DTSTART:20220625T090000Z
DTEND:20220625T160000Z
SUMMARY:Les Hauts ont des talents
DESCRIPTION:fête populaire - Animation
 - tout public - Accès libre
 - Rens. : 02 35 60 35 26
 - Coordonné par le Centre social Pernet
Scène ouverte, village des saveurs, activités pour les petits, balades en calèche, initiations sportives, stands associatifs et tombola

LOCATION:Place du Châtelet
, Rouen
END:VEVENT
END:VCALENDAR
