BEGIN:VCALENDAR
VERSION:2.0
PRODID:-//rfr/addtomycal//NONSGML v1.0//EN
BEGIN:VEVENT
UID:rouen.fr
DTSTAMP:20260422T054208Z
DTSTART:20220626T080000Z
DTEND:20220626T143000Z
SUMMARY:Stage de sculpture en argile d'après modèle vivant
DESCRIPTION:atelier - Atelier
 - tout public - 130 €
 - Rens. et réserv. : 02 76 78 18 83
Contact@galeriedesartsdufeu.fr
www.galeriedesartsdufeu.fr
 - Réalisation d'un modelage en terre à faïence

LOCATION:Galerie des Arts du feu, aître Saint-Maclou, 186 rue Martainville
, Rouen
END:VEVENT
END:VCALENDAR
