BEGIN:VCALENDAR
VERSION:2.0
PRODID:-//rfr/addtomycal//NONSGML v1.0//EN
BEGIN:VEVENT
UID:rouen.fr
DTSTAMP:20260421T141010Z
DTSTART:20220702T120000Z
DTEND:20220702T160000Z
SUMMARY:Triathlon jeune
DESCRIPTION:sport - Triathlon
 - enfant - 7 €
 - Rens. : 06 16 88 47 01, par mail à contact@rouentriathlon.fr et sur www.rouentriathlon.fr
 - Ouvert à tous, licenciés ou non

LOCATION:Complexe sportif Guy-Boissière
, Rouen
END:VEVENT
END:VCALENDAR
