BEGIN:VCALENDAR
VERSION:2.0
PRODID:-//rfr/addtomycal//NONSGML v1.0//EN
BEGIN:VEVENT
UID:rouen.fr
DTSTAMP:20260420T192429Z
DTSTART:20220703T080000Z
DTEND:20220703T100000Z
SUMMARY:Fête du fleuve - Rando en famille sur les quais
DESCRIPTION:sport - Fête du fleuve
 - tout public - Gratuit, sur inscription
 - Inscriptions sur place
Rens. : https:
LOCATION:
END:VEVENT
END:VCALENDAR
