BEGIN:VCALENDAR
VERSION:2.0
PRODID:-//rfr/addtomycal//NONSGML v1.0//EN
BEGIN:VEVENT
UID:rouen.fr
DTSTAMP:20260421T190725Z
DTSTART:20220707T080000Z
DTEND:20220707T090000Z
SUMMARY:Marche nordique
DESCRIPTION:sport - Sport
 - senior - Inscription indispensable au 02 32 08 60 80
 -  - Rdv 10 minutes avant le début de la séance devant le gymnase
Apporter une bouteille d'eau

LOCATION:Complexe sportif Saint-Exupéry, rue des Petites Eaux de Robec
, Rouen
END:VEVENT
END:VCALENDAR
