BEGIN:VCALENDAR
VERSION:2.0
PRODID:-//rfr/addtomycal//NONSGML v1.0//EN
BEGIN:VEVENT
UID:rouen.fr
DTSTAMP:20260425T125257Z
DTSTART:20220709T123000Z
DTEND:20220709T163000Z
SUMMARY:Rouen sur mer - Atelier "Land Art animaux du monde"
DESCRIPTION:atelier - Rouen sur mer
 - enfant - Gratuit
 - Rens. : https:
LOCATION:
END:VEVENT
END:VCALENDAR
