BEGIN:VCALENDAR
VERSION:2.0
PRODID:-//rfr/addtomycal//NONSGML v1.0//EN
BEGIN:VEVENT
UID:rouen.fr
DTSTAMP:20260421T222626Z
DTSTART:20220713T120000Z
DTEND:20220713T150000Z
SUMMARY:Rouen sur mer - Rencontre avec Olivier Miller
DESCRIPTION:rencontre - Rouen sur mer
 - tout public - Gratuit
 - Rens. : https:
LOCATION:
END:VEVENT
END:VCALENDAR
