BEGIN:VCALENDAR
VERSION:2.0
PRODID:-//rfr/addtomycal//NONSGML v1.0//EN
BEGIN:VEVENT
UID:rouen.fr
DTSTAMP:20260420T042209Z
DTSTART:20220718T120000Z
DTEND:20220718T140000Z
SUMMARY:Atelier - Réalisation d'un roman-photo
DESCRIPTION:atelier - Atelier
 - enfant - Participation 1 €
 - Rens. : 02 76 08 89 33 ou 02 76 08 89 34
 - Public : 8
LOCATION:11 ans
Proposé par le festival du Livre jeunesse
Découverte du livre "Une maison pour Marvin", lecture à voix haute, création d'un roman-photo, écriture et illustration
Nombre de places limité

END:VEVENT
END:VCALENDAR
