BEGIN:VCALENDAR
VERSION:2.0
PRODID:-//rfr/addtomycal//NONSGML v1.0//EN
BEGIN:VEVENT
UID:rouen.fr
DTSTAMP:20260421T021931Z
DTSTART:20220722T120000Z
DTEND:20220722T140000Z
SUMMARY:Atelier - Fabrication de lampes
DESCRIPTION:atelier - Atelier
 - tout public - Gratuit, inscription sur place
 - Inscriptions sur place
Rens. : 02 35 08 88 89
 - Public : à partir de 15 ans
Animé par Valérie Massolin

LOCATION:Centre André-Malraux, rue François-Couperin, Rouen
END:VEVENT
END:VCALENDAR
