BEGIN:VCALENDAR
VERSION:2.0
PRODID:-//rfr/addtomycal//NONSGML v1.0//EN
BEGIN:VEVENT
UID:rouen.fr
DTSTAMP:20260420T210154Z
DTSTART:20220723T073000Z
DTEND:20220723T140000Z
SUMMARY:Atelier - Peindre la boucle de Seine
DESCRIPTION:atelier - Atelier
 - tout public - 16 €
 - Réserv. au 02 32 96 30 40 ou par mail à publics3@musees-rouen-normandie.fr
Rens. : https:
LOCATION:
END:VEVENT
END:VCALENDAR
