BEGIN:VCALENDAR
VERSION:2.0
PRODID:-//rfr/addtomycal//NONSGML v1.0//EN
BEGIN:VEVENT
UID:rouen.fr
DTSTAMP:20260425T233251Z
DTSTART:20220724T120000Z
DTEND:20220727T160000Z
SUMMARY:Stage vitrail
DESCRIPTION:atelier - Stage
 - tout public - 110 € la journée
 - Rens. et réservations : 02 76 78 18 83, par mail à contact@galeriedesartsdufeu.fr ou sur www.galeriedesartsdufeu.fr
 - Public : à partir de 15 ans
Matériel fourni
Réalisation d'un mobile à suspendre en vitrail Tiffany
Nombre de places limité

LOCATION:Galerie des Arts du feu, aître Saint-Maclou, 186 rue Martainville, Rouen
END:VEVENT
END:VCALENDAR
