BEGIN:VCALENDAR
VERSION:2.0
PRODID:-//rfr/addtomycal//NONSGML v1.0//EN
BEGIN:VEVENT
UID:rouen.fr
DTSTAMP:20260419T190537Z
DTSTART:20220729T160000Z
DTEND:20220729T180000Z
SUMMARY:Rouen sur mer - Beach Wrestling
DESCRIPTION:sport - Rouen sur mer
 - tout public - Gratuit, inscription sur place
 - Rens. : https:
LOCATION:
END:VEVENT
END:VCALENDAR
