BEGIN:VCALENDAR
VERSION:2.0
PRODID:-//rfr/addtomycal//NONSGML v1.0//EN
BEGIN:VEVENT
UID:rouen.fr
DTSTAMP:20260422T024251Z
DTSTART:20220806T123000Z
DTEND:20220806T163000Z
SUMMARY:Rouen sur mer - Atelier "Land Art au bord de l'eau"
DESCRIPTION:atelier - Rouen sur mer
 - enfant - Gratuit, inscription sur place
 - Rens. : https:
LOCATION:
END:VEVENT
END:VCALENDAR
