BEGIN:VCALENDAR
VERSION:2.0
PRODID:-//rfr/addtomycal//NONSGML v1.0//EN
BEGIN:VEVENT
UID:rouen.fr
DTSTAMP:20260420T061005Z
DTSTART:20220812T090000Z
DTEND:20220812T100000Z
SUMMARY:Tai chi
DESCRIPTION:Qi gong
LOCATION:sport - Sport
 - senior - Inscription indispensable au 02 32 08 60 80
 -  - Rdv 10 minutes avant le début de la séance devant le kiosque
Apporter une bouteille d'eau

END:VEVENT
END:VCALENDAR
