BEGIN:VCALENDAR
VERSION:2.0
PRODID:-//rfr/addtomycal//NONSGML v1.0//EN
BEGIN:VEVENT
UID:rouen.fr
DTSTAMP:20260420T074623Z
DTSTART:20220812T123000Z
DTEND:20220812T123000Z
SUMMARY:Planétarium - Découvrir et comprendre le ciel d'été
DESCRIPTION:visite - Découverte
 - tout public - Entrée 2 euros en plus du billet d'entrée de l'exposition Odyssée santé, dans la limite des places disponibles
 - Rens. : https:
LOCATION:
END:VEVENT
END:VCALENDAR
