BEGIN:VCALENDAR
VERSION:2.0
PRODID:-//rfr/addtomycal//NONSGML v1.0//EN
BEGIN:VEVENT
UID:rouen.fr
DTSTAMP:20260421T230213Z
DTSTART:20220823T080000Z
DTEND:20220823T090000Z
SUMMARY:Pilates
DESCRIPTION:sport - Sport
 - senior - Inscription indispensable au 02 32 08 60 80
 -  - Rdv 10 minutes avant
Apporter un tapis et une bouteille d'eau

LOCATION:Maison des aînés, 24 rue des Arsins, Rouen
END:VEVENT
END:VCALENDAR
