BEGIN:VCALENDAR
VERSION:2.0
PRODID:-//rfr/addtomycal//NONSGML v1.0//EN
BEGIN:VEVENT
UID:rouen.fr
DTSTAMP:20260420T170201Z
DTSTART:20220825T083000Z
DTEND:20220825T094500Z
SUMMARY:Découverte de la Brain Gym
DESCRIPTION:sport - Sport
 - senior - Inscription indispensable au 02 32 08 60 80
 -  - Discipline qui stimule les différentes zones du corps et les fonctions du cerveau

LOCATION:Maison des aînés, 24 rue des Arsins, Rouen
END:VEVENT
END:VCALENDAR
