BEGIN:VCALENDAR
VERSION:2.0
PRODID:-//rfr/addtomycal//NONSGML v1.0//EN
BEGIN:VEVENT
UID:rouen.fr
DTSTAMP:20260420T225528Z
DTSTART:20220830T181500Z
DTEND:20220830T181500Z
SUMMARY:Rouen - Beauvais
DESCRIPTION:sport - Handball masculin
 - tout public - Gratuit
 -  - 
LOCATION:Gymnase Suzanne-Lenglen, 73 rue de Constantine
, Rouen
END:VEVENT
END:VCALENDAR
