BEGIN:VCALENDAR
VERSION:2.0
PRODID:-//rfr/addtomycal//NONSGML v1.0//EN
BEGIN:VEVENT
UID:rouen.fr
DTSTAMP:20260424T064741Z
DTSTART:20221005T123000Z
DTEND:20221005T143000Z
SUMMARY:Visite et atelier - Le Shed
DESCRIPTION:visite - Automne curieux
 - enfant - Gratuit, sur réservation
 - Rens. : https:
LOCATION:
END:VEVENT
END:VCALENDAR
