BEGIN:VCALENDAR
VERSION:2.0
PRODID:-//rfr/addtomycal//NONSGML v1.0//EN
BEGIN:VEVENT
UID:rouen.fr
DTSTAMP:20260420T133004Z
DTSTART:20221022T080000Z
DTEND:20221022T080000Z
SUMMARY:Atelier de fabrication de pain
DESCRIPTION:atelier - Atelier
 - enfant - Gratuit
 - Rens. : 02 76 08 80 88 et sur https:
LOCATION:
END:VEVENT
END:VCALENDAR
