BEGIN:VCALENDAR
VERSION:2.0
PRODID:-//rfr/addtomycal//NONSGML v1.0//EN
BEGIN:VEVENT
UID:rouen.fr
DTSTAMP:20260420T074040Z
DTSTART:20221022T080000Z
DTEND:20221022T170000Z
SUMMARY:Salon international de Rouen Fossiles, minéraux, gemmes & bijoux
DESCRIPTION:salon - Expo-vente
 - tout public - 4 € (gratuit pour les - 15 ans)
 - Rens. : par téléphone au 06 18 42 86 96 et par mail sur arpam.rouen@gmail.com
 - 27e édition
Une soixantaine d'exposants du monde entier
Exposition-conférence sur l'avenir de la paléontologie amateur
Ateliers pour les enfants : chercheur d'or, dégagement de fossiles…

LOCATION:Halle aux toiles, place de la Basse Vieille Tour
, Rouen
END:VEVENT
END:VCALENDAR
