BEGIN:VCALENDAR
VERSION:2.0
PRODID:-//rfr/addtomycal//NONSGML v1.0//EN
BEGIN:VEVENT
UID:rouen.fr
DTSTAMP:20260420T191944Z
DTSTART:20221026T080000Z
DTEND:20221026T100000Z
SUMMARY:Atelier conseil sur l'art du bonsaï
DESCRIPTION:atelier - Atelier
 - tout public - Gratuit, sur inscription
 - Rens. : https:
LOCATION:
END:VEVENT
END:VCALENDAR
