BEGIN:VCALENDAR
VERSION:2.0
PRODID:-//rfr/addtomycal//NONSGML v1.0//EN
BEGIN:VEVENT
UID:rouen.fr
DTSTAMP:20260423T071917Z
DTSTART:20221026T153000Z
DTEND:20221026T173000Z
SUMMARY:Atelier - De la photographie à la peinture
DESCRIPTION:atelier - Automne curieux
 - tout public - 42 € par personne
 - Rens. : https:
LOCATION:
END:VEVENT
END:VCALENDAR
