BEGIN:VCALENDAR
VERSION:2.0
PRODID:-//rfr/addtomycal//NONSGML v1.0//EN
BEGIN:VEVENT
UID:rouen.fr
DTSTAMP:20260420T074110Z
DTSTART:20221026T160000Z
DTEND:20221026T173000Z
SUMMARY:L'histoire des épidémies à Rouen à la lumière de l'actuelle pandémie de Covid 19 
DESCRIPTION:conférence - Conférence
 - tout public - Gratuit
 - Rens. : par mail à societe.emulation76@gmail.com ou sur www.societe-emulation76.fr
 - Proposé par la Société d'émulation de Seine-Maritime
Par Karl Feltgen, praticien au Service des maladies infectieuses et membre du Groupe histoire des hôpitaux de Rouen

LOCATION:Hôtel des sociétés savantes, 190 rue Beauvoisine
, Rouen
END:VEVENT
END:VCALENDAR
