BEGIN:VCALENDAR
VERSION:2.0
PRODID:-//rfr/addtomycal//NONSGML v1.0//EN
BEGIN:VEVENT
UID:rouen.fr
DTSTAMP:20260420T232117Z
DTSTART:20221102T130000Z
DTEND:20221102T140000Z
SUMMARY:Tai chi
DESCRIPTION:Qi gong
LOCATION:sport - Bien-être
 - senior - Sur inscription au 02 32 08 60 80
 -  - Rdv 10 minutes avant le début de la séance
Apporter une bouteille d'eau

END:VEVENT
END:VCALENDAR
