BEGIN:VCALENDAR
VERSION:2.0
PRODID:-//rfr/addtomycal//NONSGML v1.0//EN
BEGIN:VEVENT
UID:rouen.fr
DTSTAMP:20260420T225847Z
DTSTART:20221109T130000Z
DTEND:20221109T143000Z
SUMMARY:Prévention des arnaques
DESCRIPTION:rencontre - Rencontre
 - senior - Sur inscription au 02 32 08 60 80
 -  - Intervention de la Police nationale
Recommandations, conseils, comment repérer les fraudes

LOCATION:Résidence Bonvoisin, 2 rue des Ursulines
, Rouen
END:VEVENT
END:VCALENDAR
