BEGIN:VCALENDAR
VERSION:2.0
PRODID:-//rfr/addtomycal//NONSGML v1.0//EN
BEGIN:VEVENT
UID:rouen.fr
DTSTAMP:20260422T113307Z
DTSTART:20221123T143000Z
DTEND:20221123T143000Z
SUMMARY:Atelier - La "Fouare des Frères Ampoules"
DESCRIPTION:atelier - Atelier
 - tout public - Entrée libre
 - Rens. : 02 35 08 88 99
 - Dans le cadre du projet participatif "La Fouare des Frères Ampoules", autour du spectacle "Sandy et le Vilan McCoy" de la Cie Acid Kostik
Ateliers déco, récup', création et théâtre
Avec Raphaëlle Weber ou Julien Flematti
Pas d'obligation de participer à tous les ateliers

LOCATION:Centre André-Malraux, 110 rue François Couperin
, Rouen
END:VEVENT
END:VCALENDAR
