BEGIN:VCALENDAR
VERSION:2.0
PRODID:-//rfr/addtomycal//NONSGML v1.0//EN
BEGIN:VEVENT
UID:rouen.fr
DTSTAMP:20260425T214429Z
DTSTART:20221126T200000Z
DTEND:20221126T200000Z
SUMMARY:Sophia Aram - En création
DESCRIPTION:spectacle - Humour
 - tout public - 24 € (TR 19 €)
 - Rens. : https:
LOCATION:
END:VEVENT
END:VCALENDAR
