BEGIN:VCALENDAR
VERSION:2.0
PRODID:-//rfr/addtomycal//NONSGML v1.0//EN
BEGIN:VEVENT
UID:rouen.fr
DTSTAMP:20260420T185000Z
DTSTART:20221127T130000Z
DTEND:20221127T153000Z
SUMMARY:Atelier - Confection d'un bateau à propulsion élastique
DESCRIPTION:atelier - Atelier
 - tout public - Gratuit, sur inscription
 - Rens. et inscriptions : https:
LOCATION:
END:VEVENT
END:VCALENDAR
