BEGIN:VCALENDAR
VERSION:2.0
PRODID:-//rfr/addtomycal//NONSGML v1.0//EN
BEGIN:VEVENT
UID:rouen.fr
DTSTAMP:20260422T101424Z
DTSTART:20221204T140000Z
DTEND:20221204T140000Z
SUMMARY:Le jour G
DESCRIPTION:spectacle - Comédie
 - tout public - 25 € (TR 21 €)
 - Rens. : https:
LOCATION:
END:VEVENT
END:VCALENDAR
